BEGIN:VCALENDAR
VERSION:2.0
PRODID:-//hacksw/handcal//NONSGML v1.0//EN
BEGIN:VEVENT
SUMMARY:Stages Avril
UID:adf8faa2-fc90-4335-96ab-4c41edd9a930
DTSTART:20260420T070000Z
DTEND:20260424T150000Z
LOCATION:Localisation   
CATEGORIES:Sportif
STATUS:
URL;VALUE=URI:https://www.gfloirecens.com/evenements/2026/04/20/stages-avril-2322529
END:VEVENT
END:VCALENDAR
