BEGIN:VCALENDAR
VERSION:2.0
PRODID:-//hacksw/handcal//NONSGML v1.0//EN
BEGIN:VEVENT
SUMMARY:LOISIRS / REZE FC 2
UID:2f322297-5de3-48c6-9902-b4939aad339c
DTSTART:20260411T220000Z
DTEND:20260412T220000Z
LOCATION:Localisation   
CATEGORIES:Sportif
STATUS:
URL;VALUE=URI:https://www.gfloirecens.com/evenements/2026/04/12/loisirs-reze-fc-2-2444046
END:VEVENT
END:VCALENDAR
