BEGIN:VCALENDAR
VERSION:2.0
PRODID:-//hacksw/handcal//NONSGML v1.0//EN
BEGIN:VEVENT
SUMMARY:CAMOEL PRESQU'ILE - SENIORS
UID:d46a2457-0f1a-4439-ba2a-e0105c3f1809
DTSTART:20260411T220000Z
DTEND:20260412T220000Z
LOCATION:Localisation   
CATEGORIES:Sportif
STATUS:
URL;VALUE=URI:https://www.gfloirecens.com/evenements/2026/04/12/camoel-presquile-seniors-2444049
END:VEVENT
END:VCALENDAR
