BEGIN:VCALENDAR
VERSION:2.0
PRODID:-//hacksw/handcal//NONSGML v1.0//EN
BEGIN:VEVENT
SUMMARY:CANAL ET FORET 1 - U12
UID:717b9258-f8f0-4550-83e3-af45e39b39c8
DTSTART:20260410T220000Z
DTEND:20260411T220000Z
LOCATION:Localisation   
CATEGORIES:Sportif
STATUS:
URL;VALUE=URI:https://www.gfloirecens.com/evenements/2026/04/11/canal-et-foret-1-u12-2444040
END:VEVENT
END:VCALENDAR
