BEGIN:VCALENDAR
VERSION:2.0
PRODID:-//hacksw/handcal//NONSGML v1.0//EN
BEGIN:VEVENT
SUMMARY:GF ETOILE NORD LOIRE / LOISIRS
UID:dfa56b6d-fab3-4f01-b45e-4320864bb0ef
DTSTART:20260328T230000Z
DTEND:20260329T230000Z
LOCATION:Localisation   
CATEGORIES:Sportif
STATUS:
URL;VALUE=URI:https://www.gfloirecens.com/evenements/2026/03/29/gf-etoile-nord-loire-loisirs-2436337
END:VEVENT
END:VCALENDAR
