BEGIN:VCALENDAR
VERSION:2.0
PRODID:-//hacksw/handcal//NONSGML v1.0//EN
BEGIN:VEVENT
SUMMARY:U18 / GF MOUZILLON VIGNOBLE
UID:4af22a75-b2e1-4deb-b57b-d418696cf838
DTSTART:20260327T230000Z
DTEND:20260328T230000Z
LOCATION:Localisation   
CATEGORIES:Sportif
STATUS:
URL;VALUE=URI:https://www.gfloirecens.com/evenements/2026/03/28/u18-gf-mouzillon-vignoble-2436335
END:VEVENT
END:VCALENDAR
