BEGIN:VCALENDAR
VERSION:2.0
PRODID:-//hacksw/handcal//NONSGML v1.0//EN
BEGIN:VEVENT
SUMMARY:U15 (8) / GF SUD LOIRE MONTAGNE
UID:4eabf022-0a05-4a06-b561-fe527182fd0d
DTSTART:20260327T230000Z
DTEND:20260328T230000Z
LOCATION:Localisation   
CATEGORIES:Sportif
STATUS:
URL;VALUE=URI:https://www.gfloirecens.com/evenements/2026/03/28/u15-8-gf-sud-loire-montagne-2436333
END:VEVENT
END:VCALENDAR
