BEGIN:VCALENDAR
VERSION:2.0
PRODID:-//hacksw/handcal//NONSGML v1.0//EN
BEGIN:VEVENT
SUMMARY:U15 (11) / CARQUEFOU USJA
UID:d9e14021-ffef-49d9-8db6-d3980700895b
DTSTART:20260327T230000Z
DTEND:20260328T230000Z
LOCATION:Localisation   
CATEGORIES:Sportif
STATUS:
URL;VALUE=URI:https://www.gfloirecens.com/evenements/2026/03/28/u15-11-carquefou-usja-2436334
END:VEVENT
END:VCALENDAR
