BEGIN:VCALENDAR
VERSION:2.0
PRODID:-//hacksw/handcal//NONSGML v1.0//EN
BEGIN:VEVENT
SUMMARY:U15 (8) / ST PERE LOIROCEAN
UID:b0ed6880-0792-4b0f-bb51-edb789175078
DTSTART:20260307T150000Z
DTEND:20260307T230000Z
LOCATION:Localisation   
CATEGORIES:Sportif
STATUS:
URL;VALUE=URI:https://www.gfloirecens.com/evenements/2026/03/07/u15-8-st-pere-loirocean-2429403
END:VEVENT
END:VCALENDAR
