BEGIN:VCALENDAR
VERSION:2.0
PRODID:-//hacksw/handcal//NONSGML v1.0//EN
BEGIN:VEVENT
SUMMARY:U15 (11) / REZE
UID:86fbdbc5-d1e5-4e78-91cf-e954ecc87e0d
DTSTART:20260307T110000Z
DTEND:20260307T230000Z
LOCATION:Localisation   
CATEGORIES:Sportif
STATUS:
URL;VALUE=URI:https://www.gfloirecens.com/evenements/2026/03/07/u15-11-reze-2429404
END:VEVENT
END:VCALENDAR
