BEGIN:VCALENDAR
VERSION:2.0
PRODID:-//hacksw/handcal//NONSGML v1.0//EN
BEGIN:VEVENT
SUMMARY:U12 / PORNIC
UID:a86d014c-8bd6-4eec-903d-739d9c595a26
DTSTART:20260307T110000Z
DTEND:20260307T121500Z
LOCATION:Localisation   
CATEGORIES:Sportif
STATUS:
URL;VALUE=URI:https://www.gfloirecens.com/evenements/2026/03/07/u12-pornic-2429401
END:VEVENT
END:VCALENDAR
