BEGIN:VCALENDAR
VERSION:2.0
PRODID:-//hacksw/handcal//NONSGML v1.0//EN
BEGIN:VEVENT
SUMMARY:MOUZILLON / U13
UID:4489a13a-fcdf-4063-b027-d5beae9625a1
DTSTART:20260307T101500Z
DTEND:20260307T113000Z
LOCATION:Localisation   
CATEGORIES:Sportif
STATUS:
URL;VALUE=URI:https://www.gfloirecens.com/evenements/2026/03/07/mouzillon-u13-2429402
END:VEVENT
END:VCALENDAR
