BEGIN:VCALENDAR
VERSION:2.0
PRODID:-//hacksw/handcal//NONSGML v1.0//EN
BEGIN:VEVENT
SUMMARY:U15 (8) / GAY BOUVRON
UID:6b822e68-5bde-418c-a889-5c4e595012a7
DTSTART:20260213T230000Z
DTEND:20260214T230000Z
LOCATION:Localisation   
CATEGORIES:Sportif
STATUS:
URL;VALUE=URI:https://www.gfloirecens.com/evenements/2026/02/14/u15-8-gay-bouvron-2429408
END:VEVENT
END:VCALENDAR
